BEGIN:VCALENDAR
VERSION:2.0
PRODID:-//LYY - ECPv6.15.20//NONSGML v1.0//EN
CALSCALE:GREGORIAN
METHOD:PUBLISH
X-WR-CALNAME:LYY
X-ORIGINAL-URL:https://lyy.fi
X-WR-CALDESC:Tapahtumat LYY
REFRESH-INTERVAL;VALUE=DURATION:PT1H
X-Robots-Tag:noindex
X-PUBLISHED-TTL:PT1H
BEGIN:VTIMEZONE
TZID:Europe/Helsinki
BEGIN:DAYLIGHT
TZOFFSETFROM:+0200
TZOFFSETTO:+0300
TZNAME:EEST
DTSTART:20220327T010000
END:DAYLIGHT
BEGIN:STANDARD
TZOFFSETFROM:+0300
TZOFFSETTO:+0200
TZNAME:EET
DTSTART:20221030T010000
END:STANDARD
BEGIN:DAYLIGHT
TZOFFSETFROM:+0200
TZOFFSETTO:+0300
TZNAME:EEST
DTSTART:20230326T010000
END:DAYLIGHT
BEGIN:STANDARD
TZOFFSETFROM:+0300
TZOFFSETTO:+0200
TZNAME:EET
DTSTART:20231029T010000
END:STANDARD
BEGIN:DAYLIGHT
TZOFFSETFROM:+0200
TZOFFSETTO:+0300
TZNAME:EEST
DTSTART:20240331T010000
END:DAYLIGHT
BEGIN:STANDARD
TZOFFSETFROM:+0300
TZOFFSETTO:+0200
TZNAME:EET
DTSTART:20241027T010000
END:STANDARD
END:VTIMEZONE
BEGIN:VEVENT
DTSTART;TZID=Europe/Helsinki:20230814T190000
DTEND;TZID=Europe/Helsinki:20230814T233000
DTSTAMP:20260421T141308
CREATED:20220926T083500Z
LAST-MODIFIED:20220926T083500Z
UID:10000958-1692039600-1692055800@lyy.fi
SUMMARY:Rovaniemen Cinema Monday Movies
DESCRIPTION:Every (okay most) monday at Wiljami 7pm your local non-profit movie club Rovaniemen Cinema presents you our selection of cinema masterpieces. 10€/season ticket – cash only. Bring your own snacks. See more from our website and social media.
URL:https://lyy.fi/tapahtuma/rovaniemen-cinema-monday-movies/2023-08-14/
LOCATION:Wiljami\, Urheilukatu 1\, Rovaniemi\, 96100
CATEGORIES:Järjestötapahtuma
ATTACH;FMTTYPE=image/png:https://lyy.fi/wp-content/uploads/2022/09/EAA62D2A-5110-46DB-80C1-708DBE3EFEFC.png
ORGANIZER;CN="rovaniemen cinema":MAILTO:rovaniemencinema@gmail.com
END:VEVENT
BEGIN:VEVENT
DTSTART;TZID=Europe/Helsinki:20230807T190000
DTEND;TZID=Europe/Helsinki:20230807T233000
DTSTAMP:20260421T141308
CREATED:20220926T083500Z
LAST-MODIFIED:20220926T083500Z
UID:10000957-1691434800-1691451000@lyy.fi
SUMMARY:Rovaniemen Cinema Monday Movies
DESCRIPTION:Every (okay most) monday at Wiljami 7pm your local non-profit movie club Rovaniemen Cinema presents you our selection of cinema masterpieces. 10€/season ticket – cash only. Bring your own snacks. See more from our website and social media.
URL:https://lyy.fi/tapahtuma/rovaniemen-cinema-monday-movies/2023-08-07/
LOCATION:Wiljami\, Urheilukatu 1\, Rovaniemi\, 96100
CATEGORIES:Järjestötapahtuma
ATTACH;FMTTYPE=image/png:https://lyy.fi/wp-content/uploads/2022/09/EAA62D2A-5110-46DB-80C1-708DBE3EFEFC.png
ORGANIZER;CN="rovaniemen cinema":MAILTO:rovaniemencinema@gmail.com
END:VEVENT
BEGIN:VEVENT
DTSTART;TZID=Europe/Helsinki:20230731T190000
DTEND;TZID=Europe/Helsinki:20230731T233000
DTSTAMP:20260421T141308
CREATED:20220926T083500Z
LAST-MODIFIED:20220926T083500Z
UID:10000956-1690830000-1690846200@lyy.fi
SUMMARY:Rovaniemen Cinema Monday Movies
DESCRIPTION:Every (okay most) monday at Wiljami 7pm your local non-profit movie club Rovaniemen Cinema presents you our selection of cinema masterpieces. 10€/season ticket – cash only. Bring your own snacks. See more from our website and social media.
URL:https://lyy.fi/tapahtuma/rovaniemen-cinema-monday-movies/2023-07-31/
LOCATION:Wiljami\, Urheilukatu 1\, Rovaniemi\, 96100
CATEGORIES:Järjestötapahtuma
ATTACH;FMTTYPE=image/png:https://lyy.fi/wp-content/uploads/2022/09/EAA62D2A-5110-46DB-80C1-708DBE3EFEFC.png
ORGANIZER;CN="rovaniemen cinema":MAILTO:rovaniemencinema@gmail.com
END:VEVENT
BEGIN:VEVENT
DTSTART;TZID=Europe/Helsinki:20230724T190000
DTEND;TZID=Europe/Helsinki:20230724T233000
DTSTAMP:20260421T141308
CREATED:20220926T083500Z
LAST-MODIFIED:20220926T083500Z
UID:10000955-1690225200-1690241400@lyy.fi
SUMMARY:Rovaniemen Cinema Monday Movies
DESCRIPTION:Every (okay most) monday at Wiljami 7pm your local non-profit movie club Rovaniemen Cinema presents you our selection of cinema masterpieces. 10€/season ticket – cash only. Bring your own snacks. See more from our website and social media.
URL:https://lyy.fi/tapahtuma/rovaniemen-cinema-monday-movies/2023-07-24/
LOCATION:Wiljami\, Urheilukatu 1\, Rovaniemi\, 96100
CATEGORIES:Järjestötapahtuma
ATTACH;FMTTYPE=image/png:https://lyy.fi/wp-content/uploads/2022/09/EAA62D2A-5110-46DB-80C1-708DBE3EFEFC.png
ORGANIZER;CN="rovaniemen cinema":MAILTO:rovaniemencinema@gmail.com
END:VEVENT
BEGIN:VEVENT
DTSTART;TZID=Europe/Helsinki:20230717T190000
DTEND;TZID=Europe/Helsinki:20230717T233000
DTSTAMP:20260421T141308
CREATED:20220926T083500Z
LAST-MODIFIED:20220926T083500Z
UID:10000954-1689620400-1689636600@lyy.fi
SUMMARY:Rovaniemen Cinema Monday Movies
DESCRIPTION:Every (okay most) monday at Wiljami 7pm your local non-profit movie club Rovaniemen Cinema presents you our selection of cinema masterpieces. 10€/season ticket – cash only. Bring your own snacks. See more from our website and social media.
URL:https://lyy.fi/tapahtuma/rovaniemen-cinema-monday-movies/2023-07-17/
LOCATION:Wiljami\, Urheilukatu 1\, Rovaniemi\, 96100
CATEGORIES:Järjestötapahtuma
ATTACH;FMTTYPE=image/png:https://lyy.fi/wp-content/uploads/2022/09/EAA62D2A-5110-46DB-80C1-708DBE3EFEFC.png
ORGANIZER;CN="rovaniemen cinema":MAILTO:rovaniemencinema@gmail.com
END:VEVENT
BEGIN:VEVENT
DTSTART;TZID=Europe/Helsinki:20230710T190000
DTEND;TZID=Europe/Helsinki:20230710T233000
DTSTAMP:20260421T141308
CREATED:20220926T083500Z
LAST-MODIFIED:20220926T083500Z
UID:10000953-1689015600-1689031800@lyy.fi
SUMMARY:Rovaniemen Cinema Monday Movies
DESCRIPTION:Every (okay most) monday at Wiljami 7pm your local non-profit movie club Rovaniemen Cinema presents you our selection of cinema masterpieces. 10€/season ticket – cash only. Bring your own snacks. See more from our website and social media.
URL:https://lyy.fi/tapahtuma/rovaniemen-cinema-monday-movies/2023-07-10/
LOCATION:Wiljami\, Urheilukatu 1\, Rovaniemi\, 96100
CATEGORIES:Järjestötapahtuma
ATTACH;FMTTYPE=image/png:https://lyy.fi/wp-content/uploads/2022/09/EAA62D2A-5110-46DB-80C1-708DBE3EFEFC.png
ORGANIZER;CN="rovaniemen cinema":MAILTO:rovaniemencinema@gmail.com
END:VEVENT
BEGIN:VEVENT
DTSTART;TZID=Europe/Helsinki:20230703T190000
DTEND;TZID=Europe/Helsinki:20230703T233000
DTSTAMP:20260421T141308
CREATED:20220926T083500Z
LAST-MODIFIED:20220926T083500Z
UID:10000952-1688410800-1688427000@lyy.fi
SUMMARY:Rovaniemen Cinema Monday Movies
DESCRIPTION:Every (okay most) monday at Wiljami 7pm your local non-profit movie club Rovaniemen Cinema presents you our selection of cinema masterpieces. 10€/season ticket – cash only. Bring your own snacks. See more from our website and social media.
URL:https://lyy.fi/tapahtuma/rovaniemen-cinema-monday-movies/2023-07-03/
LOCATION:Wiljami\, Urheilukatu 1\, Rovaniemi\, 96100
CATEGORIES:Järjestötapahtuma
ATTACH;FMTTYPE=image/png:https://lyy.fi/wp-content/uploads/2022/09/EAA62D2A-5110-46DB-80C1-708DBE3EFEFC.png
ORGANIZER;CN="rovaniemen cinema":MAILTO:rovaniemencinema@gmail.com
END:VEVENT
BEGIN:VEVENT
DTSTART;TZID=Europe/Helsinki:20230626T190000
DTEND;TZID=Europe/Helsinki:20230626T233000
DTSTAMP:20260421T141308
CREATED:20220926T083500Z
LAST-MODIFIED:20220926T083500Z
UID:10000951-1687806000-1687822200@lyy.fi
SUMMARY:Rovaniemen Cinema Monday Movies
DESCRIPTION:Every (okay most) monday at Wiljami 7pm your local non-profit movie club Rovaniemen Cinema presents you our selection of cinema masterpieces. 10€/season ticket – cash only. Bring your own snacks. See more from our website and social media.
URL:https://lyy.fi/tapahtuma/rovaniemen-cinema-monday-movies/2023-06-26/
LOCATION:Wiljami\, Urheilukatu 1\, Rovaniemi\, 96100
CATEGORIES:Järjestötapahtuma
ATTACH;FMTTYPE=image/png:https://lyy.fi/wp-content/uploads/2022/09/EAA62D2A-5110-46DB-80C1-708DBE3EFEFC.png
ORGANIZER;CN="rovaniemen cinema":MAILTO:rovaniemencinema@gmail.com
END:VEVENT
BEGIN:VEVENT
DTSTART;TZID=Europe/Helsinki:20230619T190000
DTEND;TZID=Europe/Helsinki:20230619T233000
DTSTAMP:20260421T141308
CREATED:20220926T083500Z
LAST-MODIFIED:20220926T083500Z
UID:10000950-1687201200-1687217400@lyy.fi
SUMMARY:Rovaniemen Cinema Monday Movies
DESCRIPTION:Every (okay most) monday at Wiljami 7pm your local non-profit movie club Rovaniemen Cinema presents you our selection of cinema masterpieces. 10€/season ticket – cash only. Bring your own snacks. See more from our website and social media.
URL:https://lyy.fi/tapahtuma/rovaniemen-cinema-monday-movies/2023-06-19/
LOCATION:Wiljami\, Urheilukatu 1\, Rovaniemi\, 96100
CATEGORIES:Järjestötapahtuma
ATTACH;FMTTYPE=image/png:https://lyy.fi/wp-content/uploads/2022/09/EAA62D2A-5110-46DB-80C1-708DBE3EFEFC.png
ORGANIZER;CN="rovaniemen cinema":MAILTO:rovaniemencinema@gmail.com
END:VEVENT
BEGIN:VEVENT
DTSTART;TZID=Europe/Helsinki:20230612T190000
DTEND;TZID=Europe/Helsinki:20230612T233000
DTSTAMP:20260421T141308
CREATED:20220926T083500Z
LAST-MODIFIED:20220926T083500Z
UID:10000949-1686596400-1686612600@lyy.fi
SUMMARY:Rovaniemen Cinema Monday Movies
DESCRIPTION:Every (okay most) monday at Wiljami 7pm your local non-profit movie club Rovaniemen Cinema presents you our selection of cinema masterpieces. 10€/season ticket – cash only. Bring your own snacks. See more from our website and social media.
URL:https://lyy.fi/tapahtuma/rovaniemen-cinema-monday-movies/2023-06-12/
LOCATION:Wiljami\, Urheilukatu 1\, Rovaniemi\, 96100
CATEGORIES:Järjestötapahtuma
ATTACH;FMTTYPE=image/png:https://lyy.fi/wp-content/uploads/2022/09/EAA62D2A-5110-46DB-80C1-708DBE3EFEFC.png
ORGANIZER;CN="rovaniemen cinema":MAILTO:rovaniemencinema@gmail.com
END:VEVENT
BEGIN:VEVENT
DTSTART;TZID=Europe/Helsinki:20230605T190000
DTEND;TZID=Europe/Helsinki:20230605T233000
DTSTAMP:20260421T141308
CREATED:20220926T083500Z
LAST-MODIFIED:20220926T083500Z
UID:10000948-1685991600-1686007800@lyy.fi
SUMMARY:Rovaniemen Cinema Monday Movies
DESCRIPTION:Every (okay most) monday at Wiljami 7pm your local non-profit movie club Rovaniemen Cinema presents you our selection of cinema masterpieces. 10€/season ticket – cash only. Bring your own snacks. See more from our website and social media.
URL:https://lyy.fi/tapahtuma/rovaniemen-cinema-monday-movies/2023-06-05/
LOCATION:Wiljami\, Urheilukatu 1\, Rovaniemi\, 96100
CATEGORIES:Järjestötapahtuma
ATTACH;FMTTYPE=image/png:https://lyy.fi/wp-content/uploads/2022/09/EAA62D2A-5110-46DB-80C1-708DBE3EFEFC.png
ORGANIZER;CN="rovaniemen cinema":MAILTO:rovaniemencinema@gmail.com
END:VEVENT
BEGIN:VEVENT
DTSTART;TZID=Europe/Helsinki:20230529T190000
DTEND;TZID=Europe/Helsinki:20230529T233000
DTSTAMP:20260421T141308
CREATED:20220926T083500Z
LAST-MODIFIED:20220926T083500Z
UID:10000947-1685386800-1685403000@lyy.fi
SUMMARY:Rovaniemen Cinema Monday Movies
DESCRIPTION:Every (okay most) monday at Wiljami 7pm your local non-profit movie club Rovaniemen Cinema presents you our selection of cinema masterpieces. 10€/season ticket – cash only. Bring your own snacks. See more from our website and social media.
URL:https://lyy.fi/tapahtuma/rovaniemen-cinema-monday-movies/2023-05-29/
LOCATION:Wiljami\, Urheilukatu 1\, Rovaniemi\, 96100
CATEGORIES:Järjestötapahtuma
ATTACH;FMTTYPE=image/png:https://lyy.fi/wp-content/uploads/2022/09/EAA62D2A-5110-46DB-80C1-708DBE3EFEFC.png
ORGANIZER;CN="rovaniemen cinema":MAILTO:rovaniemencinema@gmail.com
END:VEVENT
BEGIN:VEVENT
DTSTART;TZID=Europe/Helsinki:20230522T190000
DTEND;TZID=Europe/Helsinki:20230522T233000
DTSTAMP:20260421T141308
CREATED:20220926T083500Z
LAST-MODIFIED:20220926T083500Z
UID:10000946-1684782000-1684798200@lyy.fi
SUMMARY:Rovaniemen Cinema Monday Movies
DESCRIPTION:Every (okay most) monday at Wiljami 7pm your local non-profit movie club Rovaniemen Cinema presents you our selection of cinema masterpieces. 10€/season ticket – cash only. Bring your own snacks. See more from our website and social media.
URL:https://lyy.fi/tapahtuma/rovaniemen-cinema-monday-movies/2023-05-22/
LOCATION:Wiljami\, Urheilukatu 1\, Rovaniemi\, 96100
CATEGORIES:Järjestötapahtuma
ATTACH;FMTTYPE=image/png:https://lyy.fi/wp-content/uploads/2022/09/EAA62D2A-5110-46DB-80C1-708DBE3EFEFC.png
ORGANIZER;CN="rovaniemen cinema":MAILTO:rovaniemencinema@gmail.com
END:VEVENT
BEGIN:VEVENT
DTSTART;TZID=Europe/Helsinki:20230515T190000
DTEND;TZID=Europe/Helsinki:20230515T233000
DTSTAMP:20260421T141308
CREATED:20220926T083500Z
LAST-MODIFIED:20220926T083500Z
UID:10000945-1684177200-1684193400@lyy.fi
SUMMARY:Rovaniemen Cinema Monday Movies
DESCRIPTION:Every (okay most) monday at Wiljami 7pm your local non-profit movie club Rovaniemen Cinema presents you our selection of cinema masterpieces. 10€/season ticket – cash only. Bring your own snacks. See more from our website and social media.
URL:https://lyy.fi/tapahtuma/rovaniemen-cinema-monday-movies/2023-05-15/
LOCATION:Wiljami\, Urheilukatu 1\, Rovaniemi\, 96100
CATEGORIES:Järjestötapahtuma
ATTACH;FMTTYPE=image/png:https://lyy.fi/wp-content/uploads/2022/09/EAA62D2A-5110-46DB-80C1-708DBE3EFEFC.png
ORGANIZER;CN="rovaniemen cinema":MAILTO:rovaniemencinema@gmail.com
END:VEVENT
BEGIN:VEVENT
DTSTART;TZID=Europe/Helsinki:20230508T190000
DTEND;TZID=Europe/Helsinki:20230508T233000
DTSTAMP:20260421T141308
CREATED:20220926T083500Z
LAST-MODIFIED:20220926T083500Z
UID:10000944-1683572400-1683588600@lyy.fi
SUMMARY:Rovaniemen Cinema Monday Movies
DESCRIPTION:Every (okay most) monday at Wiljami 7pm your local non-profit movie club Rovaniemen Cinema presents you our selection of cinema masterpieces. 10€/season ticket – cash only. Bring your own snacks. See more from our website and social media.
URL:https://lyy.fi/tapahtuma/rovaniemen-cinema-monday-movies/2023-05-08/
LOCATION:Wiljami\, Urheilukatu 1\, Rovaniemi\, 96100
CATEGORIES:Järjestötapahtuma
ATTACH;FMTTYPE=image/png:https://lyy.fi/wp-content/uploads/2022/09/EAA62D2A-5110-46DB-80C1-708DBE3EFEFC.png
ORGANIZER;CN="rovaniemen cinema":MAILTO:rovaniemencinema@gmail.com
END:VEVENT
BEGIN:VEVENT
DTSTART;TZID=Europe/Helsinki:20230501T190000
DTEND;TZID=Europe/Helsinki:20230501T233000
DTSTAMP:20260421T141309
CREATED:20220926T083500Z
LAST-MODIFIED:20220926T083500Z
UID:10000943-1682967600-1682983800@lyy.fi
SUMMARY:Rovaniemen Cinema Monday Movies
DESCRIPTION:Every (okay most) monday at Wiljami 7pm your local non-profit movie club Rovaniemen Cinema presents you our selection of cinema masterpieces. 10€/season ticket – cash only. Bring your own snacks. See more from our website and social media.
URL:https://lyy.fi/tapahtuma/rovaniemen-cinema-monday-movies/2023-05-01/
LOCATION:Wiljami\, Urheilukatu 1\, Rovaniemi\, 96100
CATEGORIES:Järjestötapahtuma
ATTACH;FMTTYPE=image/png:https://lyy.fi/wp-content/uploads/2022/09/EAA62D2A-5110-46DB-80C1-708DBE3EFEFC.png
ORGANIZER;CN="rovaniemen cinema":MAILTO:rovaniemencinema@gmail.com
END:VEVENT
BEGIN:VEVENT
DTSTART;TZID=Europe/Helsinki:20230424T190000
DTEND;TZID=Europe/Helsinki:20230424T233000
DTSTAMP:20260421T141309
CREATED:20220926T083500Z
LAST-MODIFIED:20220926T083500Z
UID:10000942-1682362800-1682379000@lyy.fi
SUMMARY:Rovaniemen Cinema Monday Movies
DESCRIPTION:Every (okay most) monday at Wiljami 7pm your local non-profit movie club Rovaniemen Cinema presents you our selection of cinema masterpieces. 10€/season ticket – cash only. Bring your own snacks. See more from our website and social media.
URL:https://lyy.fi/tapahtuma/rovaniemen-cinema-monday-movies/2023-04-24/
LOCATION:Wiljami\, Urheilukatu 1\, Rovaniemi\, 96100
CATEGORIES:Järjestötapahtuma
ATTACH;FMTTYPE=image/png:https://lyy.fi/wp-content/uploads/2022/09/EAA62D2A-5110-46DB-80C1-708DBE3EFEFC.png
ORGANIZER;CN="rovaniemen cinema":MAILTO:rovaniemencinema@gmail.com
END:VEVENT
BEGIN:VEVENT
DTSTART;TZID=Europe/Helsinki:20230417T190000
DTEND;TZID=Europe/Helsinki:20230417T233000
DTSTAMP:20260421T141309
CREATED:20220926T083500Z
LAST-MODIFIED:20220926T083500Z
UID:10000941-1681758000-1681774200@lyy.fi
SUMMARY:Rovaniemen Cinema Monday Movies
DESCRIPTION:Every (okay most) monday at Wiljami 7pm your local non-profit movie club Rovaniemen Cinema presents you our selection of cinema masterpieces. 10€/season ticket – cash only. Bring your own snacks. See more from our website and social media.
URL:https://lyy.fi/tapahtuma/rovaniemen-cinema-monday-movies/2023-04-17/
LOCATION:Wiljami\, Urheilukatu 1\, Rovaniemi\, 96100
CATEGORIES:Järjestötapahtuma
ATTACH;FMTTYPE=image/png:https://lyy.fi/wp-content/uploads/2022/09/EAA62D2A-5110-46DB-80C1-708DBE3EFEFC.png
ORGANIZER;CN="rovaniemen cinema":MAILTO:rovaniemencinema@gmail.com
END:VEVENT
BEGIN:VEVENT
DTSTART;TZID=Europe/Helsinki:20230410T190000
DTEND;TZID=Europe/Helsinki:20230410T233000
DTSTAMP:20260421T141309
CREATED:20220926T083500Z
LAST-MODIFIED:20220926T083500Z
UID:10000940-1681153200-1681169400@lyy.fi
SUMMARY:Rovaniemen Cinema Monday Movies
DESCRIPTION:Every (okay most) monday at Wiljami 7pm your local non-profit movie club Rovaniemen Cinema presents you our selection of cinema masterpieces. 10€/season ticket – cash only. Bring your own snacks. See more from our website and social media.
URL:https://lyy.fi/tapahtuma/rovaniemen-cinema-monday-movies/2023-04-10/
LOCATION:Wiljami\, Urheilukatu 1\, Rovaniemi\, 96100
CATEGORIES:Järjestötapahtuma
ATTACH;FMTTYPE=image/png:https://lyy.fi/wp-content/uploads/2022/09/EAA62D2A-5110-46DB-80C1-708DBE3EFEFC.png
ORGANIZER;CN="rovaniemen cinema":MAILTO:rovaniemencinema@gmail.com
END:VEVENT
BEGIN:VEVENT
DTSTART;TZID=Europe/Helsinki:20230403T190000
DTEND;TZID=Europe/Helsinki:20230403T233000
DTSTAMP:20260421T141309
CREATED:20220926T083500Z
LAST-MODIFIED:20220926T083500Z
UID:10000939-1680548400-1680564600@lyy.fi
SUMMARY:Rovaniemen Cinema Monday Movies
DESCRIPTION:Every (okay most) monday at Wiljami 7pm your local non-profit movie club Rovaniemen Cinema presents you our selection of cinema masterpieces. 10€/season ticket – cash only. Bring your own snacks. See more from our website and social media.
URL:https://lyy.fi/tapahtuma/rovaniemen-cinema-monday-movies/2023-04-03/
LOCATION:Wiljami\, Urheilukatu 1\, Rovaniemi\, 96100
CATEGORIES:Järjestötapahtuma
ATTACH;FMTTYPE=image/png:https://lyy.fi/wp-content/uploads/2022/09/EAA62D2A-5110-46DB-80C1-708DBE3EFEFC.png
ORGANIZER;CN="rovaniemen cinema":MAILTO:rovaniemencinema@gmail.com
END:VEVENT
BEGIN:VEVENT
DTSTART;TZID=Europe/Helsinki:20230327T190000
DTEND;TZID=Europe/Helsinki:20230327T233000
DTSTAMP:20260421T141309
CREATED:20220926T083500Z
LAST-MODIFIED:20220926T083500Z
UID:10000938-1679943600-1679959800@lyy.fi
SUMMARY:Rovaniemen Cinema Monday Movies
DESCRIPTION:Every (okay most) monday at Wiljami 7pm your local non-profit movie club Rovaniemen Cinema presents you our selection of cinema masterpieces. 10€/season ticket – cash only. Bring your own snacks. See more from our website and social media.
URL:https://lyy.fi/tapahtuma/rovaniemen-cinema-monday-movies/2023-03-27/
LOCATION:Wiljami\, Urheilukatu 1\, Rovaniemi\, 96100
CATEGORIES:Järjestötapahtuma
ATTACH;FMTTYPE=image/png:https://lyy.fi/wp-content/uploads/2022/09/EAA62D2A-5110-46DB-80C1-708DBE3EFEFC.png
ORGANIZER;CN="rovaniemen cinema":MAILTO:rovaniemencinema@gmail.com
END:VEVENT
BEGIN:VEVENT
DTSTART;TZID=Europe/Helsinki:20230320T190000
DTEND;TZID=Europe/Helsinki:20230320T233000
DTSTAMP:20260421T141309
CREATED:20220926T083500Z
LAST-MODIFIED:20220926T083500Z
UID:10000937-1679338800-1679355000@lyy.fi
SUMMARY:Rovaniemen Cinema Monday Movies
DESCRIPTION:Every (okay most) monday at Wiljami 7pm your local non-profit movie club Rovaniemen Cinema presents you our selection of cinema masterpieces. 10€/season ticket – cash only. Bring your own snacks. See more from our website and social media.
URL:https://lyy.fi/tapahtuma/rovaniemen-cinema-monday-movies/2023-03-20/
LOCATION:Wiljami\, Urheilukatu 1\, Rovaniemi\, 96100
CATEGORIES:Järjestötapahtuma
ATTACH;FMTTYPE=image/png:https://lyy.fi/wp-content/uploads/2022/09/EAA62D2A-5110-46DB-80C1-708DBE3EFEFC.png
ORGANIZER;CN="rovaniemen cinema":MAILTO:rovaniemencinema@gmail.com
END:VEVENT
BEGIN:VEVENT
DTSTART;TZID=Europe/Helsinki:20230313T190000
DTEND;TZID=Europe/Helsinki:20230313T233000
DTSTAMP:20260421T141309
CREATED:20220926T083500Z
LAST-MODIFIED:20220926T083500Z
UID:10000936-1678734000-1678750200@lyy.fi
SUMMARY:Rovaniemen Cinema Monday Movies
DESCRIPTION:Every (okay most) monday at Wiljami 7pm your local non-profit movie club Rovaniemen Cinema presents you our selection of cinema masterpieces. 10€/season ticket – cash only. Bring your own snacks. See more from our website and social media.
URL:https://lyy.fi/tapahtuma/rovaniemen-cinema-monday-movies/2023-03-13/
LOCATION:Wiljami\, Urheilukatu 1\, Rovaniemi\, 96100
CATEGORIES:Järjestötapahtuma
ATTACH;FMTTYPE=image/png:https://lyy.fi/wp-content/uploads/2022/09/EAA62D2A-5110-46DB-80C1-708DBE3EFEFC.png
ORGANIZER;CN="rovaniemen cinema":MAILTO:rovaniemencinema@gmail.com
END:VEVENT
BEGIN:VEVENT
DTSTART;TZID=Europe/Helsinki:20230306T190000
DTEND;TZID=Europe/Helsinki:20230306T233000
DTSTAMP:20260421T141309
CREATED:20220926T083500Z
LAST-MODIFIED:20220926T083500Z
UID:10000935-1678129200-1678145400@lyy.fi
SUMMARY:Rovaniemen Cinema Monday Movies
DESCRIPTION:Every (okay most) monday at Wiljami 7pm your local non-profit movie club Rovaniemen Cinema presents you our selection of cinema masterpieces. 10€/season ticket – cash only. Bring your own snacks. See more from our website and social media.
URL:https://lyy.fi/tapahtuma/rovaniemen-cinema-monday-movies/2023-03-06/
LOCATION:Wiljami\, Urheilukatu 1\, Rovaniemi\, 96100
CATEGORIES:Järjestötapahtuma
ATTACH;FMTTYPE=image/png:https://lyy.fi/wp-content/uploads/2022/09/EAA62D2A-5110-46DB-80C1-708DBE3EFEFC.png
ORGANIZER;CN="rovaniemen cinema":MAILTO:rovaniemencinema@gmail.com
END:VEVENT
BEGIN:VEVENT
DTSTART;TZID=Europe/Helsinki:20230227T190000
DTEND;TZID=Europe/Helsinki:20230227T233000
DTSTAMP:20260421T141309
CREATED:20220926T083500Z
LAST-MODIFIED:20220926T083500Z
UID:10000934-1677524400-1677540600@lyy.fi
SUMMARY:Rovaniemen Cinema Monday Movies
DESCRIPTION:Every (okay most) monday at Wiljami 7pm your local non-profit movie club Rovaniemen Cinema presents you our selection of cinema masterpieces. 10€/season ticket – cash only. Bring your own snacks. See more from our website and social media.
URL:https://lyy.fi/tapahtuma/rovaniemen-cinema-monday-movies/2023-02-27/
LOCATION:Wiljami\, Urheilukatu 1\, Rovaniemi\, 96100
CATEGORIES:Järjestötapahtuma
ATTACH;FMTTYPE=image/png:https://lyy.fi/wp-content/uploads/2022/09/EAA62D2A-5110-46DB-80C1-708DBE3EFEFC.png
ORGANIZER;CN="rovaniemen cinema":MAILTO:rovaniemencinema@gmail.com
END:VEVENT
BEGIN:VEVENT
DTSTART;TZID=Europe/Helsinki:20230220T190000
DTEND;TZID=Europe/Helsinki:20230220T233000
DTSTAMP:20260421T141309
CREATED:20220926T083500Z
LAST-MODIFIED:20220926T083500Z
UID:10000933-1676919600-1676935800@lyy.fi
SUMMARY:Rovaniemen Cinema Monday Movies
DESCRIPTION:Every (okay most) monday at Wiljami 7pm your local non-profit movie club Rovaniemen Cinema presents you our selection of cinema masterpieces. 10€/season ticket – cash only. Bring your own snacks. See more from our website and social media.
URL:https://lyy.fi/tapahtuma/rovaniemen-cinema-monday-movies/2023-02-20/
LOCATION:Wiljami\, Urheilukatu 1\, Rovaniemi\, 96100
CATEGORIES:Järjestötapahtuma
ATTACH;FMTTYPE=image/png:https://lyy.fi/wp-content/uploads/2022/09/EAA62D2A-5110-46DB-80C1-708DBE3EFEFC.png
ORGANIZER;CN="rovaniemen cinema":MAILTO:rovaniemencinema@gmail.com
END:VEVENT
BEGIN:VEVENT
DTSTART;TZID=Europe/Helsinki:20230213T190000
DTEND;TZID=Europe/Helsinki:20230213T233000
DTSTAMP:20260421T141309
CREATED:20220926T083500Z
LAST-MODIFIED:20220926T083500Z
UID:10000932-1676314800-1676331000@lyy.fi
SUMMARY:Rovaniemen Cinema Monday Movies
DESCRIPTION:Every (okay most) monday at Wiljami 7pm your local non-profit movie club Rovaniemen Cinema presents you our selection of cinema masterpieces. 10€/season ticket – cash only. Bring your own snacks. See more from our website and social media.
URL:https://lyy.fi/tapahtuma/rovaniemen-cinema-monday-movies/2023-02-13/
LOCATION:Wiljami\, Urheilukatu 1\, Rovaniemi\, 96100
CATEGORIES:Järjestötapahtuma
ATTACH;FMTTYPE=image/png:https://lyy.fi/wp-content/uploads/2022/09/EAA62D2A-5110-46DB-80C1-708DBE3EFEFC.png
ORGANIZER;CN="rovaniemen cinema":MAILTO:rovaniemencinema@gmail.com
END:VEVENT
BEGIN:VEVENT
DTSTART;TZID=Europe/Helsinki:20230206T190000
DTEND;TZID=Europe/Helsinki:20230206T233000
DTSTAMP:20260421T141309
CREATED:20220926T083500Z
LAST-MODIFIED:20220926T083500Z
UID:10000931-1675710000-1675726200@lyy.fi
SUMMARY:Rovaniemen Cinema Monday Movies
DESCRIPTION:Every (okay most) monday at Wiljami 7pm your local non-profit movie club Rovaniemen Cinema presents you our selection of cinema masterpieces. 10€/season ticket – cash only. Bring your own snacks. See more from our website and social media.
URL:https://lyy.fi/tapahtuma/rovaniemen-cinema-monday-movies/2023-02-06/
LOCATION:Wiljami\, Urheilukatu 1\, Rovaniemi\, 96100
CATEGORIES:Järjestötapahtuma
ATTACH;FMTTYPE=image/png:https://lyy.fi/wp-content/uploads/2022/09/EAA62D2A-5110-46DB-80C1-708DBE3EFEFC.png
ORGANIZER;CN="rovaniemen cinema":MAILTO:rovaniemencinema@gmail.com
END:VEVENT
BEGIN:VEVENT
DTSTART;TZID=Europe/Helsinki:20230130T190000
DTEND;TZID=Europe/Helsinki:20230130T233000
DTSTAMP:20260421T141309
CREATED:20220926T083500Z
LAST-MODIFIED:20220926T083500Z
UID:10000930-1675105200-1675121400@lyy.fi
SUMMARY:Rovaniemen Cinema Monday Movies
DESCRIPTION:Every (okay most) monday at Wiljami 7pm your local non-profit movie club Rovaniemen Cinema presents you our selection of cinema masterpieces. 10€/season ticket – cash only. Bring your own snacks. See more from our website and social media.
URL:https://lyy.fi/tapahtuma/rovaniemen-cinema-monday-movies/2023-01-30/
LOCATION:Wiljami\, Urheilukatu 1\, Rovaniemi\, 96100
CATEGORIES:Järjestötapahtuma
ATTACH;FMTTYPE=image/png:https://lyy.fi/wp-content/uploads/2022/09/EAA62D2A-5110-46DB-80C1-708DBE3EFEFC.png
ORGANIZER;CN="rovaniemen cinema":MAILTO:rovaniemencinema@gmail.com
END:VEVENT
BEGIN:VEVENT
DTSTART;TZID=Europe/Helsinki:20230123T190000
DTEND;TZID=Europe/Helsinki:20230123T233000
DTSTAMP:20260421T141309
CREATED:20220926T083500Z
LAST-MODIFIED:20220926T083500Z
UID:10000929-1674500400-1674516600@lyy.fi
SUMMARY:Rovaniemen Cinema Monday Movies
DESCRIPTION:Every (okay most) monday at Wiljami 7pm your local non-profit movie club Rovaniemen Cinema presents you our selection of cinema masterpieces. 10€/season ticket – cash only. Bring your own snacks. See more from our website and social media.
URL:https://lyy.fi/tapahtuma/rovaniemen-cinema-monday-movies/2023-01-23/
LOCATION:Wiljami\, Urheilukatu 1\, Rovaniemi\, 96100
CATEGORIES:Järjestötapahtuma
ATTACH;FMTTYPE=image/png:https://lyy.fi/wp-content/uploads/2022/09/EAA62D2A-5110-46DB-80C1-708DBE3EFEFC.png
ORGANIZER;CN="rovaniemen cinema":MAILTO:rovaniemencinema@gmail.com
END:VEVENT
END:VCALENDAR