BEGIN:VCALENDAR
VERSION:2.0
PRODID:-//LYY - ECPv6.15.20//NONSGML v1.0//EN
CALSCALE:GREGORIAN
METHOD:PUBLISH
X-ORIGINAL-URL:https://lyy.fi
X-WR-CALDESC:Tapahtumat LYY
REFRESH-INTERVAL;VALUE=DURATION:PT1H
X-Robots-Tag:noindex
X-PUBLISHED-TTL:PT1H
BEGIN:VTIMEZONE
TZID:Europe/Helsinki
BEGIN:DAYLIGHT
TZOFFSETFROM:+0200
TZOFFSETTO:+0300
TZNAME:EEST
DTSTART:20250330T010000
END:DAYLIGHT
BEGIN:STANDARD
TZOFFSETFROM:+0300
TZOFFSETTO:+0200
TZNAME:EET
DTSTART:20251026T010000
END:STANDARD
BEGIN:DAYLIGHT
TZOFFSETFROM:+0200
TZOFFSETTO:+0300
TZNAME:EEST
DTSTART:20260329T010000
END:DAYLIGHT
BEGIN:STANDARD
TZOFFSETFROM:+0300
TZOFFSETTO:+0200
TZNAME:EET
DTSTART:20261025T010000
END:STANDARD
BEGIN:DAYLIGHT
TZOFFSETFROM:+0200
TZOFFSETTO:+0300
TZNAME:EEST
DTSTART:20270328T010000
END:DAYLIGHT
BEGIN:STANDARD
TZOFFSETFROM:+0300
TZOFFSETTO:+0200
TZNAME:EET
DTSTART:20271031T010000
END:STANDARD
END:VTIMEZONE
BEGIN:VEVENT
DTSTART;TZID=Europe/Helsinki:20260415T220000
DTEND;TZID=Europe/Helsinki:20260416T040000
DTSTAMP:20260421T142559
CREATED:20260331T111801Z
LAST-MODIFIED:20260331T111801Z
UID:10001488-1776290400-1776312000@lyy.fi
SUMMARY:Wappustartti / Wappu Start
DESCRIPTION:suomi – english \nTervetuloa viettämään RöllöWappuasi tavalla\, jota et tule unohtamaan. Wappustartti on jälleen täällä ja tänäkin vuonna pääsemme bailaamaan yhdessä yökerhon tanssilattialle. Tapahtuma tuo yhteen kaiken mitä tarvitsen täydelliseen iltaan sekä wapunalkuun: loistavan tunnelman\, ystäviä ympärillä\, uusia tuttuja sekä seikkailua Rovaniemen yössä! Nähdään siis Doriksessa! \nTapahtuman lipunmyynti alkaa kide.apissa 1.4. klo 14.00 \n– \nWelcome to celebrate your RöllöWappu in a way you will not forget. The Wappu start is here again and this year we get to party together on the nightclub dance floor. The event brings together everything you need for a perfect evening and the start of Wappu: a great atmosphere\, friends around\, new acquaintances\, and adventure in the night of Rovaniemi! So see you at Doris! \nTicket sales start on April 1 at 14.00.
URL:https://lyy.fi/tapahtuma/wappustartti-wappu-start/
LOCATION:Doris Night Club\, Koskikatu 4\, Rovaniemi\, 96200\, Suomi
CATEGORIES:Vapaa-aika
ATTACH;FMTTYPE=image/jpeg:https://lyy.fi/wp-content/uploads/2026/03/wappustarttikideapp.jpg
ORGANIZER;CN="LYY":MAILTO:lyy@lyy.fi
END:VEVENT
BEGIN:VEVENT
DTSTART;TZID=Europe/Helsinki:20260415T180000
DTEND;TZID=Europe/Helsinki:20260415T220000
DTSTAMP:20260421T142559
CREATED:20260331T110948Z
LAST-MODIFIED:20260331T111200Z
UID:10001487-1776276000-1776290400@lyy.fi
SUMMARY:Gameshow sitsit / The Gameshow sits
DESCRIPTION:suomi – english \nValot päälle\, fanfaarit soimaan ja kilpailuvietti kattoon! Hyvät katsojat ja kilpailijat lämpimästi tervetuloa aloittamaan RöllöWappu LYYn loisteliailla GameShow sitseillä\, jossa jokainen vastaus voi olla kohtalokas\, jokainen haaste legendaarinen ja jokainen siirto strateginen valinta. On aika astua studiovaloihin ja testata\, kenestä löytyy illan kovin tietäjä ja nokkelin neuvottelija. Luvassa on visaisia kysymyksiä\, hulvattomia haasteita\, yllättäviä käänteitä ja ehkä muutama ”yleisö äänestää” -hetki. \nJos suorat lähetykset\, casting-kierrokset ja tiukat finaalijaksot ovat vieneet kaiken aikasi etkä ole vielä ehtinyt noutaa Wappurannekettasi\, ei hätää\, tämän spektaakkelin aikana sinulla on vielä mahdollisuus lunastaa se ennen kuin summeri soi ja vastaus lukitaan! Voit tehdä sisääntulosi tyylillä\, saavu paikalle heti ovien auetessa tai kaarra estradille tähtien tapaan muodikkaasti myöhässä. Tärkeintä on\, että olet valmis\, kun show starttaa! Sitsit alkavat klo 18.00\, olethan omalla paikallasi viimeistään tällöin. \nTarjolla on maukas kolmen ruokalajin illallinen. Tapahtuma on OPM. Muista ottaa mukaan laulukirjasi. Muistoksi sitseistä mukaasi lähtee tottakai upea haalarimerkki. \nSitsien päätyttyä juhlat eivät suinkaan lopu vaan jatkamme kohti Dorista WappuStartin merkeissä. Suursitsien lipun hintaan EI kuulu Doriksen jatkolippua\, joten muistathan ostaa itsellesi erikseen lipun WappuStarttiin. \nMitä? Suursitsit\nMissä? Yliopiston pääaula\nMilloin? 15.4. klo 17-22\nDC? Pukeudu suosikkipeliohjelmasi hengessä! Oletko karismaattinen juontaja\, hermostunut kilpailija vai mystinen palkintotyttö? Nyt saa revitellä! + Haalarit ja ylioppilaslakki tai ammattilakki \nTapahtumassa noudatamme LYYn turvallisemman tilan periaatteita\, eikä tapahtumassa sallita ollenkaan syrjintää. Mikäli koet tapahtumassa minkäänlaista häirintää\, olethan yhteydessä LYYn häirintäyhdyshenkilöihin hairinta(at)lyy.fi \nLipunmyynti tapahtumaan alkaa kideapissa 1.4. klo 12.00 \n– \nLights on\, fanfares playing\, and competitive spirit to the max! Dear viewers and competitors\, a warm welcome to start RöllöWappu LYY’s brilliant GameShow sitsit\, where every answer can be fatal\, every challenge legendary\, and every move a strategic choice. It’s time to step into the studio lights and test who is the toughest quizzer and the cleverest negotiator of the evening. Expect tricky questions\, hilarious challenges\, surprising twists\, and maybe a few “audience votes” moments. \nIf the live broadcasts\, casting rounds\, and tough final episodes have taken up all your time and you haven’t yet picked up your Wappu wristband\, no worries—during this spectacle you still have the chance to claim it before the buzzer sounds and the answer is locked! You can make your entrance in style\, arrive as soon as the doors open\, or cruise onto the stage fashionably late like the stars. \nThe most important thing is that you’re ready when the show starts! The sitsit begin at 6:00 PM\, Please be at your place by this time at the latest. A delicious three-course dinner will be served. The event is OPM. Remember to bring your songbook. As a memento of the sits\, you will of course get a fantastic overall badge. After the sits end\, the party does not end but continues towards Dori for WappuStart. The ticket price for the grand sits does NOT include a continuation ticket to Dori\, so remember to buy a separate ticket for WappuStart. \nWhat? Grand sitz\nWhere? University main hall\nWhen? April 15th\, 5-10 PM\nDC? Dress in the spirit of your favorite game show! Are you a charismatic host\, a nervous contestant\, or a mysterious prize girl? Now you can go wild! + student cap or professional cap \nAt the event\, we follow LYY’s principles of a safer space\, and no form of discrimination is allowed at the event. If you experience any harassment at the event\, please contact LYY’s harassment contacts at hairinta(at)lyy.fi \nTicket sales start on April 1 at 12.00.
URL:https://lyy.fi/tapahtuma/gameshow-sitsit/
LOCATION:Lapin yliopisto\, Yliopistokatu 8\, Rovaniemi\, Lappi\, 96300\, Suomi
CATEGORIES:Kulttuuri,Vapaa-aika
ATTACH;FMTTYPE=image/jpeg:https://lyy.fi/wp-content/uploads/2026/03/gameshowsitskideapp.jpg
ORGANIZER;CN="LYY":MAILTO:lyy@lyy.fi
END:VEVENT
BEGIN:VEVENT
DTSTART;TZID=Europe/Helsinki:20260415T110000
DTEND;TZID=Europe/Helsinki:20260415T130000
DTSTAMP:20260421T142559
CREATED:20260331T110203Z
LAST-MODIFIED:20260331T110203Z
UID:10001486-1776250800-1776258000@lyy.fi
SUMMARY:Merkkimarkkinat / The Patch Market
DESCRIPTION:suomi – english \nYliopiston aulan täyttää jälleen huikea määrä järjestöjä! Mikäli haalarisi tarvitsevat ehostusta ja kunnostusta vappua varten\, nyt on loistava tilaisuus täydentää merkkikokoelmaasi yliopiston aulan merkkimarkkinoilla. Tule kiertelemään ja tekemään loistavia merkkilöytöjä! Nähdään merkkimarkkinoilla! \n– \nThe university lobby is once again filled with an incredible number of organizations! If your overalls need a makeover and renovation for May Day\, now is a great opportunity to complete your patch collection at the patch market in the university lobby. Come and browse and make great patch finds! See you at the patch market!
URL:https://lyy.fi/tapahtuma/merkkimarkkinat-the-patch-market/
LOCATION:Lapin yliopisto\, Yliopistokatu 8\, Rovaniemi\, Lappi\, 96300\, Suomi
CATEGORIES:Vapaa-aika
ATTACH;FMTTYPE=image/jpeg:https://lyy.fi/wp-content/uploads/2026/03/merkkimarkkinatkideapp.jpg
ORGANIZER;CN="LYY":MAILTO:lyy@lyy.fi
END:VEVENT
BEGIN:VEVENT
DTSTART;TZID=Europe/Helsinki:20260314T120000
DTEND;TZID=Europe/Helsinki:20260314T140000
DTSTAMP:20260421T142559
CREATED:20260310T163917Z
LAST-MODIFIED:20260310T163917Z
UID:10001485-1773489600-1773496800@lyy.fi
SUMMARY:LYY Goes to Arctic Pride
DESCRIPTION:LYY goes to Arctic Pride! \nTällä viikolla 9.3.-15.3. Rovaniemellä vietetään Arctic Pridea! Viikon tapahtumia voit löytää @arcticpride . LYY kutsuu kaikki jäsenensä mukaan osallistumaan lauantaina 14.3. Arctic Pride -kulkueeseen! Kulkue lähtee Lappia talolta klo 12\, mutta paikalle kannattaa saapua jo viimeistään 11:45. <3 \n🏳️‍🌈 LYY tukee Arctic Prideä myös vuonna 2026! Tasa-arvo\, syrjimättömyys ja moninaisuuden kunnioittaminen ovat arvoja\, joiden puolesta haluamme toimia\, ei vain sanoissa\, vaan myös teoissa. Olemme mukana tukemassa Arctic Prideä\, koska haluamme\, että jokainen opiskelija ja yhteisömme jäsen voi tuntea olonsa nähdyksi ja arvostetuksi! \nHaalarit jalkaan\, ja nähdään Arctic Pride -kulkueessa! \n– \nThis week\, from March 9 to March 15\, Rovaniemi will be celebrating Arctic Pride! You can find the week’s events @arcticpride. LYY invites all its members to participate in the Arctic Pride parade on Saturday\, March 14! The parade will depart from Lappia talo at 12 noon\, but it is recommended to arrive by 11:45 a.m. at the latest. <3 \n🏳️‍🌈 The Student Union of the University of Lapland\, LYY supports Arctic Pride again in 2026! Equality\, non-discrimination\, and respect for diversity are values we stand for\, not just in words\, but in actions. We support Arctic Pride because we want every student and member of our community to feel seen and valued. See you at the Arctic Pride parade! \nPut on your overalls and see you at the Arctic Pride parade!
URL:https://lyy.fi/tapahtuma/lyy-goes-to-arctic-pride/
LOCATION:Lappia-talo\, Jorma Eton tie 8 A\, Rovaniemi\, Lappi\, 96100\, Suomi
CATEGORIES:Kulttuuri,Vapaa-aika
ATTACH;FMTTYPE=image/jpeg:https://lyy.fi/wp-content/uploads/2026/03/LYY-AP.jpg
ORGANIZER;CN="LYY":MAILTO:lyy@lyy.fi
END:VEVENT
END:VCALENDAR